BEGIN:VCALENDAR
VERSION:2.0
PRODID:-//wp-events-plugin.com//7.2.3.1//EN
TZID:America/New_York
X-WR-TIMEZONE:America/New_York
BEGIN:VEVENT
UID:460@beechwoodnudistcamp.com
DTSTART;TZID=America/New_York:20260523T200000
DTEND;TZID=America/New_York:20260523T230000
DTSTAMP:20260403T184703Z
URL:https://beechwoodnudistcamp.com/events/memorial-day-dance-8/
SUMMARY:Memorial Day Dance
DESCRIPTION:
ATTACH;FMTTYPE=image/jpeg:https://beechwoodnudistcamp.com/wp-content/uploa
 ds/2025/03/qtq80-J96uxJ.jpeg
CATEGORIES:Dance,Social Event
LOCATION:webcal
GEO:40.79525957330461;-75.7296812560669
X-APPLE-STRUCTURED-LOCATION;VALUE=URI;X-ADDRESS=314 Beechwood Lane\, Ashfie
 ld\, Pennsylvania\, 18212\, United States;X-APPLE-RADIUS=100;X-TITLE=Beech
 wood Nudist Camp:geo:40.79525957330461,-75.7296812560669
END:VEVENT
BEGIN:VTIMEZONE
TZID:America/New_York
X-LIC-LOCATION:America/New_York
BEGIN:DAYLIGHT
DTSTART:20260308T030000
TZOFFSETFROM:-0500
TZOFFSETTO:-0400
TZNAME:EDT
END:DAYLIGHT
END:VTIMEZONE
END:VCALENDAR