BEGIN:VCALENDAR
VERSION:2.0
PRODID:-//wp-events-plugin.com//7.2.3.1//EN
TZID:America/New_York
X-WR-TIMEZONE:America/New_York
BEGIN:VEVENT
UID:6@beechwoodnudistcamp.com
DTSTART;TZID=America/New_York:20150906T170000
DTEND;TZID=America/New_York:20150906T180000
DTSTAMP:20150817T030633Z
URL:https://beechwoodnudistcamp.com/events/clam-bake-2015/
SUMMARY:Clam Bake
DESCRIPTION:[caption id="attachment_376" align="alignnone" width="463"] Cla
 m Bake 2015[/caption]\n\nClam Bake\n\nSunday\, Sept. 6th\, 5:00 p.m.\n\n&n
 bsp\;\n\n\n\n2 Dozen Steamed ClamsGrilled ChickenHomemade Corn FrittersSof
 t Drink\nFried Popcorn ShrimpMacaroni and CheeseFresh Cole SlawDessert\n\n
 \n\n\n\n\n\n$19 Per Person\,$17 if reserved by 9/2Prices include tax.Reduc
 ed children’s prices available.\n\nRain or shine\; menu subject to chang
 e\n\n\n\n\n1 lb. Steamed Snow Crab Legs also available for an additional $
 10\, but only if you reserve prior to 9/2.\n\n              C
 rab Leg option will not be available on day of event
ATTACH;FMTTYPE=image/jpeg:https://beechwoodnudistcamp.com/wp-content/uploa
 ds/2015/08/Clam-Bake-2015.jpg
CATEGORIES:Dinner
LOCATION:webcal
GEO:40.79525957330461;-75.7296812560669
X-APPLE-STRUCTURED-LOCATION;VALUE=URI;X-ADDRESS=314 Beechwood Lane\, Ashfie
 ld\, Pennsylvania\, 18212\, United States;X-APPLE-RADIUS=100;X-TITLE=Beech
 wood Nudist Camp:geo:40.79525957330461,-75.7296812560669
END:VEVENT
BEGIN:VTIMEZONE
TZID:America/New_York
X-LIC-LOCATION:America/New_York
BEGIN:DAYLIGHT
DTSTART:20150308T030000
TZOFFSETFROM:-0500
TZOFFSETTO:-0400
TZNAME:EDT
END:DAYLIGHT
END:VTIMEZONE
END:VCALENDAR